BEGIN:VCALENDAR
VERSION:2.0
PRODID:calendify.com
BEGIN:VEVENT
UID:calendify-session-EQVO2GrDMkZ
DTSTART:20200201T142000Z
SEQUENCE:0
TRANSP:OPAQUE
DTEND:20200201T150000Z
URL:https://calendify.com/session/EQVO2GrDMkZ
LOCATION:K.4.201
SUMMARY:Flang : The Fortran frontend of LLVM
CLASS:PUBLIC
DESCRIPTION:https://calendify.com/session/EQVO2GrDMkZ
DTSTAMP:20260423T175216Z
CREATED:20200513T234730Z
LAST-MODIFIED:20210426T093308Z
END:VEVENT
END:VCALENDAR