BEGIN:VCALENDAR
VERSION:2.0
PRODID:calendify.com
BEGIN:VEVENT
UID:calendify-session-EQVO2KArMkZ
DTSTART:20230606T164500Z
SEQUENCE:0
TRANSP:OPAQUE
DTEND:20230606T174500Z
URL:https://calendify.com/session/EQVO2KArMkZ
LOCATION:Workshop Flutgraben
SUMMARY:ChatGPT & Co. in der Bildung – Gekommen um zu bleiben?
CLASS:PUBLIC
DESCRIPTION:https://calendify.com/session/EQVO2KArMkZ
DTSTAMP:20260423T101835Z
CREATED:20230604T163804Z
LAST-MODIFIED:20230606T124205Z
END:VEVENT
END:VCALENDAR