BEGIN:VCALENDAR
VERSION:2.0
PRODID:calendify.com
BEGIN:VEVENT
UID:calendify-session-EQVO2KPjMkZ
DTSTART:20230609T103000Z
SEQUENCE:0
TRANSP:OPAQUE
DTEND:20230609T113000Z
URL:https://calendify.com/session/EQVO2KPjMkZ
LOCATION:Vortragssaal
SUMMARY:Breaking the black-box security coprocessor in the Nintendo Switch\
 , a story of vulnerability after vulnerability
CLASS:PUBLIC
DESCRIPTION:https://calendify.com/session/EQVO2KPjMkZ
DTSTAMP:20260424T043910Z
CREATED:20230527T091822Z
LAST-MODIFIED:20230611T215002Z
END:VEVENT
END:VCALENDAR