BEGIN:VCALENDAR
VERSION:2.0
PRODID:calendify.com
BEGIN:VEVENT
UID:calendify-session-EQVO2KmwMkZ
DTSTART:20220722T160000Z
SEQUENCE:0
TRANSP:OPAQUE
DTEND:20220722T170000Z
URL:https://calendify.com/session/EQVO2KmwMkZ
LOCATION:Music Stage 🎤
SUMMARY:Breaky breaky
CLASS:PUBLIC
DESCRIPTION:https://calendify.com/session/EQVO2KmwMkZ
DTSTAMP:20260422T164012Z
CREATED:20220723T101231Z
LAST-MODIFIED:20220726T182703Z
END:VEVENT
END:VCALENDAR