BEGIN:VCALENDAR
VERSION:2.0
PRODID:calendify.com
BEGIN:VEVENT
UID:calendify-session-EQVO2L7BgkZ
DTSTART:20220205T153000Z
SEQUENCE:0
TRANSP:OPAQUE
DTEND:20220205T163000Z
URL:https://calendify.com/session/EQVO2L7BgkZ
LOCATION:D.embedded
SUMMARY:One stop shop: Best Practices for Programming Embedded FPGAs
CLASS:PUBLIC
DESCRIPTION:https://calendify.com/session/EQVO2L7BgkZ
DTSTAMP:20260420T140836Z
CREATED:20220120T214602Z
LAST-MODIFIED:20220206T225002Z
END:VEVENT
END:VCALENDAR