BEGIN:VCALENDAR
VERSION:2.0
PRODID:calendify.com
BEGIN:VEVENT
UID:calendify-session-EQVO2LDjgkZ
DTSTART:20210520T155000Z
SEQUENCE:0
TRANSP:OPAQUE
DTEND:20210520T155100Z
URL:https://calendify.com/session/EQVO2LDjgkZ
LOCATION:Kanal 1
SUMMARY:Deine Minute Pause auf dem Markt
CLASS:PUBLIC
DESCRIPTION:https://calendify.com/session/EQVO2LDjgkZ
DTSTAMP:20260423T003912Z
CREATED:20210515T220102Z
LAST-MODIFIED:20210524T215002Z
END:VEVENT
END:VCALENDAR