BEGIN:VCALENDAR
VERSION:2.0
PRODID:calendify.com
BEGIN:VEVENT
UID:calendify-session-EQVO2LNwgkZ
DTSTART:20220205T100000Z
SEQUENCE:0
TRANSP:OPAQUE
DTEND:20220205T103000Z
URL:https://calendify.com/session/EQVO2LNwgkZ
LOCATION:D.mozilla
SUMMARY:Suggestions for a Stronger Mozilla Community
CLASS:PUBLIC
DESCRIPTION:https://calendify.com/session/EQVO2LNwgkZ
DTSTAMP:20260420T234729Z
CREATED:20220120T214603Z
LAST-MODIFIED:20220206T225002Z
END:VEVENT
END:VCALENDAR