BEGIN:VCALENDAR
VERSION:2.0
PRODID:calendify.com
BEGIN:VEVENT
UID:calendify-session-EQVO2Q364kZ
DTSTART:20230723T124500Z
SEQUENCE:0
TRANSP:OPAQUE
DTEND:20230723T141500Z
URL:https://calendify.com/session/EQVO2Q364kZ
LOCATION:Workshopraum
SUMMARY:Blender für Techies / Nerds
CLASS:PUBLIC
DESCRIPTION:https://calendify.com/session/EQVO2Q364kZ
DTSTAMP:20260420T130808Z
CREATED:20230806T113705Z
LAST-MODIFIED:20230806T113705Z
END:VEVENT
END:VCALENDAR