BEGIN:VCALENDAR
VERSION:2.0
PRODID:calendify.com
BEGIN:VEVENT
UID:calendify-session-EQVO2Q7j4kZ
DTSTART:20240330T123000Z
SEQUENCE:0
TRANSP:OPAQUE
DTEND:20240330T133000Z
URL:https://calendify.com/session/EQVO2Q7j4kZ
LOCATION:Walhacka - D002
SUMMARY:Nix zu verstecken! Meine Software hat CVEs
CLASS:PUBLIC
DESCRIPTION:https://calendify.com/session/EQVO2Q7j4kZ
DTSTAMP:20260423T150852Z
CREATED:20240328T125150Z
LAST-MODIFIED:20240401T142841Z
END:VEVENT
END:VCALENDAR