BEGIN:VCALENDAR
VERSION:2.0
PRODID:calendify.com
BEGIN:VEVENT
UID:calendify-session-EQVO2QJa4kZ
DTSTART:20240531T084500Z
SEQUENCE:0
TRANSP:OPAQUE
DTEND:20240531T094500Z
URL:https://calendify.com/session/EQVO2QJa4kZ
LOCATION:ZKM Medientheater
SUMMARY:GPS Spoofing und Jamming - Techniken\, Risiken und Detektion
CLASS:PUBLIC
DESCRIPTION:https://calendify.com/session/EQVO2QJa4kZ
DTSTAMP:20260420T170709Z
CREATED:20240531T122738Z
LAST-MODIFIED:20240602T132303Z
END:VEVENT
END:VCALENDAR