BEGIN:VCALENDAR
VERSION:2.0
PRODID:calendify.com
BEGIN:VEVENT
UID:calendify-session-EQVO2QRr4kZ
DTSTART:20231230T163500Z
SEQUENCE:0
TRANSP:OPAQUE
DTEND:20231230T171500Z
URL:https://calendify.com/session/EQVO2QRr4kZ
LOCATION:Saal Zuse
SUMMARY:37C3 カラオケ – Herausforderungen der aktuellen Karaokeforsch
 ung 
CLASS:PUBLIC
DESCRIPTION:https://calendify.com/session/EQVO2QRr4kZ
DTSTAMP:20260423T030915Z
CREATED:20231215T204822Z
LAST-MODIFIED:20240401T142934Z
END:VEVENT
END:VCALENDAR