BEGIN:VCALENDAR
VERSION:2.0
PRODID:calendify.com
BEGIN:VEVENT
UID:calendify-session-EQVO2Qb64kZ
DTSTART:20230721T143000Z
SEQUENCE:0
TRANSP:OPAQUE
DTEND:20230721T153000Z
URL:https://calendify.com/session/EQVO2Qb64kZ
LOCATION:Workshopraum
SUMMARY:Designing for Laser Cutting - Challenges and Solutions
CLASS:PUBLIC
DESCRIPTION:https://calendify.com/session/EQVO2Qb64kZ
DTSTAMP:20260420T132946Z
CREATED:20230806T113705Z
LAST-MODIFIED:20230806T113705Z
END:VEVENT
END:VCALENDAR