BEGIN:VCALENDAR
VERSION:2.0
PRODID:calendify.com
BEGIN:VEVENT
UID:calendify-session-EQVO2QzL4kZ
DTSTART:20231227T220000Z
SEQUENCE:0
TRANSP:OPAQUE
DTEND:20231227T225000Z
URL:https://calendify.com/session/EQVO2QzL4kZ
LOCATION:Saal D
SUMMARY:Wondrous mathematics: A gentle introduction to P vs. NP\, the great
 est open question in computer science
CLASS:PUBLIC
DESCRIPTION:https://calendify.com/session/EQVO2QzL4kZ
DTSTAMP:20260423T030820Z
CREATED:20231221T182736Z
LAST-MODIFIED:20240401T142932Z
END:VEVENT
END:VCALENDAR