BEGIN:VCALENDAR
VERSION:2.0
PRODID:calendify.com
BEGIN:VEVENT
UID:calendify-session-EQVO2Y6q4kZ
DTSTART:20260131T103500Z
SEQUENCE:0
TRANSP:OPAQUE
DTEND:20260131T110000Z
URL:https://calendify.com/session/EQVO2Y6q4kZ
LOCATION:UB2.147
SUMMARY:Bridging robotics and systems programming: Why Copper-rs is a game 
 changer
CLASS:PUBLIC
DESCRIPTION:https://calendify.com/session/EQVO2Y6q4kZ
DTSTAMP:20260424T111428Z
CREATED:20260131T063253Z
LAST-MODIFIED:20260201T163222Z
END:VEVENT
END:VCALENDAR