BEGIN:VCALENDAR
VERSION:2.0
PRODID:calendify.com
BEGIN:VEVENT
UID:calendify-session-EQVO2YLD4kZ
DTSTART:20260131T144500Z
SEQUENCE:0
TRANSP:OPAQUE
DTEND:20260131T150500Z
URL:https://calendify.com/session/EQVO2YLD4kZ
LOCATION:H.1302 (Depage)
SUMMARY:OpenPERouter: Turning Your Kubernetes Nodes into a Provide Edge Rou
 ter
CLASS:PUBLIC
DESCRIPTION:https://calendify.com/session/EQVO2YLD4kZ
DTSTAMP:20260424T061808Z
CREATED:20260131T063245Z
LAST-MODIFIED:20260201T163222Z
END:VEVENT
END:VCALENDAR