BEGIN:VCALENDAR
VERSION:2.0
PRODID:calendify.com
BEGIN:VEVENT
UID:calendify-session-EQVO2Yvw4kZ
DTSTART:20260201T122000Z
SEQUENCE:0
TRANSP:OPAQUE
DTEND:20260201T123500Z
URL:https://calendify.com/session/EQVO2Yvw4kZ
LOCATION:H.2215 (Ferrer)
SUMMARY:Securing time with NTS
CLASS:PUBLIC
DESCRIPTION:https://calendify.com/session/EQVO2Yvw4kZ
DTSTAMP:20260424T085234Z
CREATED:20260131T063316Z
LAST-MODIFIED:20260201T163231Z
END:VEVENT
END:VCALENDAR