BEGIN:VCALENDAR
VERSION:2.0
PRODID:calendify.com
BEGIN:VEVENT
UID:calendify-session-EQVO2a0j4kZ
DTSTART:20191229T163000Z
SEQUENCE:0
TRANSP:OPAQUE
DTEND:20191229T173000Z
URL:https://calendify.com/session/EQVO2a0j4kZ
LOCATION:Ada
SUMMARY:Human Rights at a Global Crossroads
CLASS:PUBLIC
DESCRIPTION:https://calendify.com/session/EQVO2a0j4kZ
DTSTAMP:20260421T202338Z
CREATED:20200429T014105Z
LAST-MODIFIED:20200429T014105Z
END:VEVENT
END:VCALENDAR