BEGIN:VCALENDAR
VERSION:2.0
PRODID:calendify.com
BEGIN:VEVENT
UID:calendify-session-EQVO2bP6OkZ
DTSTART:20201228T185500Z
SEQUENCE:0
TRANSP:OPAQUE
DTEND:20201228T193500Z
URL:https://calendify.com/session/EQVO2bP6OkZ
LOCATION:franconian.net
SUMMARY:Still not lovin gentrification
CLASS:PUBLIC
DESCRIPTION:https://calendify.com/session/EQVO2bP6OkZ
DTSTAMP:20260424T042904Z
CREATED:20201221T231541Z
LAST-MODIFIED:20210210T041536Z
END:VEVENT
END:VCALENDAR