BEGIN:VCALENDAR
VERSION:2.0
PRODID:calendify.com
BEGIN:VEVENT
UID:calendify-session-EQVO2bRBOkZ
DTSTART:20200905T220000Z
SEQUENCE:0
TRANSP:OPAQUE
DTEND:20200905T230000Z
URL:https://calendify.com/session/EQVO2bRBOkZ
LOCATION:Schneider-Hoover
SUMMARY:unicorn partisans
CLASS:PUBLIC
DESCRIPTION:https://calendify.com/session/EQVO2bRBOkZ
DTSTAMP:20260420T172710Z
CREATED:20200904T143714Z
LAST-MODIFIED:20200904T143714Z
END:VEVENT
END:VCALENDAR