BEGIN:VCALENDAR
VERSION:2.0
PRODID:calendify.com
BEGIN:VEVENT
UID:calendify-session-EQVO2bmwOkZ
DTSTART:20180330T144500Z
SEQUENCE:0
TRANSP:OPAQUE
DTEND:20180330T154500Z
URL:https://calendify.com/session/EQVO2bmwOkZ
LOCATION:Heisenberg 1
SUMMARY:How to hack a superorganism? - studies in honeybees
CLASS:PUBLIC
DESCRIPTION:https://calendify.com/session/EQVO2bmwOkZ
DTSTAMP:20260422T205816Z
CREATED:20200520T231946Z
LAST-MODIFIED:20200520T231946Z
END:VEVENT
END:VCALENDAR