BEGIN:VCALENDAR
VERSION:2.0
PRODID:calendify.com
BEGIN:VEVENT
UID:calendify-session-EQVO2bwwOkZ
DTSTART:20180401T123000Z
SEQUENCE:0
TRANSP:OPAQUE
DTEND:20180401T133000Z
URL:https://calendify.com/session/EQVO2bwwOkZ
LOCATION:Heisenberg 1
SUMMARY:Howto: Spawn Training Infrastructure without a Headache
CLASS:PUBLIC
DESCRIPTION:https://calendify.com/session/EQVO2bwwOkZ
DTSTAMP:20260422T205810Z
CREATED:20200520T231946Z
LAST-MODIFIED:20200520T231946Z
END:VEVENT
END:VCALENDAR