BEGIN:VCALENDAR
VERSION:2.0
PRODID:calendify.com
BEGIN:VEVENT
UID:calendify-session-Ejw4Y9B14Q1
DTSTART:20260201T083500Z
SEQUENCE:0
TRANSP:OPAQUE
DTEND:20260201T090000Z
URL:https://calendify.com/session/Ejw4Y9B14Q1
LOCATION:H.2214
SUMMARY:Nextcloud as Identity Provider? SCIM Client Integration for Multi-P
 latform Collaboration
CLASS:PUBLIC
DESCRIPTION:https://calendify.com/session/Ejw4Y9B14Q1
DTSTAMP:20260424T073621Z
CREATED:20260131T063315Z
LAST-MODIFIED:20260201T163231Z
END:VEVENT
END:VCALENDAR