BEGIN:VCALENDAR
VERSION:2.0
PRODID:calendify.com
BEGIN:VEVENT
UID:calendify-session-Ejw4Y9GW4Q1
DTSTART:20260201T130000Z
SEQUENCE:0
TRANSP:OPAQUE
DTEND:20260201T135500Z
URL:https://calendify.com/session/Ejw4Y9GW4Q1
LOCATION:UA4.222
SUMMARY:Open Buro: Integrating applications to create a Smart Platform Expe
 rience
CLASS:PUBLIC
DESCRIPTION:https://calendify.com/session/Ejw4Y9GW4Q1
DTSTAMP:20260424T100120Z
CREATED:20260201T163237Z
LAST-MODIFIED:20260201T163237Z
END:VEVENT
END:VCALENDAR