BEGIN:VCALENDAR
VERSION:2.0
PRODID:calendify.com
BEGIN:VEVENT
UID:calendify-session-Ejw4YEQa4Q1
DTSTART:20240921T110000Z
SEQUENCE:0
TRANSP:OPAQUE
DTEND:20240921T180000Z
URL:https://calendify.com/session/Ejw4YEQa4Q1
LOCATION:Hof 2
SUMMARY:Keyboard Meetup
CLASS:PUBLIC
DESCRIPTION:https://calendify.com/session/Ejw4YEQa4Q1
DTSTAMP:20260424T015605Z
CREATED:20241208T220338Z
LAST-MODIFIED:20241208T220338Z
END:VEVENT
END:VCALENDAR