BEGIN:VCALENDAR
VERSION:2.0
PRODID:calendify.com
BEGIN:VEVENT
UID:calendify-session-Ejw4YJ6rOQ1
DTSTART:20210207T143000Z
SEQUENCE:0
TRANSP:OPAQUE
DTEND:20210207T150000Z
URL:https://calendify.com/session/Ejw4YJ6rOQ1
LOCATION:D.mysql
SUMMARY:Rewrite Your Complex MySQL Queries for Better Performance
CLASS:PUBLIC
DESCRIPTION:https://calendify.com/session/Ejw4YJ6rOQ1
DTSTAMP:20260423T140332Z
CREATED:20210111T170320Z
LAST-MODIFIED:20210208T224804Z
END:VEVENT
END:VCALENDAR