BEGIN:VCALENDAR
VERSION:2.0
PRODID:calendify.com
BEGIN:VEVENT
UID:calendify-session-Ejw4YJ9xOQ1
DTSTART:20210207T103000Z
SEQUENCE:0
TRANSP:OPAQUE
DTEND:20210207T110000Z
URL:https://calendify.com/session/Ejw4YJ9xOQ1
LOCATION:D.hpc
SUMMARY:Getting ready for the AMD GPUs
CLASS:PUBLIC
DESCRIPTION:https://calendify.com/session/Ejw4YJ9xOQ1
DTSTAMP:20260422T130610Z
CREATED:20210111T170320Z
LAST-MODIFIED:20210208T224804Z
END:VEVENT
END:VCALENDAR