BEGIN:VCALENDAR
VERSION:2.0
PRODID:calendify.com
BEGIN:VEVENT
UID:calendify-session-Ejw4YJL7OQ1
DTSTART:20210207T132000Z
SEQUENCE:0
TRANSP:OPAQUE
DTEND:20210207T134000Z
URL:https://calendify.com/session/Ejw4YJL7OQ1
LOCATION:L.lightningtalks
SUMMARY:RETURNING clause ... Have your cake and eat it too!
CLASS:PUBLIC
DESCRIPTION:https://calendify.com/session/Ejw4YJL7OQ1
DTSTAMP:20260422T100248Z
CREATED:20210114T155443Z
LAST-MODIFIED:20210208T224803Z
END:VEVENT
END:VCALENDAR