BEGIN:VCALENDAR
VERSION:2.0
PRODID:calendify.com
BEGIN:VEVENT
UID:calendify-session-Ejw4YJQxOQ1
DTSTART:20210207T094500Z
SEQUENCE:0
TRANSP:OPAQUE
DTEND:20210207T103000Z
URL:https://calendify.com/session/Ejw4YJQxOQ1
LOCATION:D.dependency
SUMMARY:DepClean: Automatically revealing bloated software dependencies in 
 Maven projects
CLASS:PUBLIC
DESCRIPTION:https://calendify.com/session/Ejw4YJQxOQ1
DTSTAMP:20260424T025543Z
CREATED:20210111T170319Z
LAST-MODIFIED:20210208T224804Z
END:VEVENT
END:VCALENDAR