BEGIN:VCALENDAR
VERSION:2.0
PRODID:calendify.com
BEGIN:VEVENT
UID:calendify-session-Ejw4YJdeOQ1
DTSTART:20210207T150500Z
SEQUENCE:0
TRANSP:OPAQUE
DTEND:20210207T154000Z
URL:https://calendify.com/session/Ejw4YJdeOQ1
LOCATION:D.geospatial
SUMMARY:YouthMappers
CLASS:PUBLIC
DESCRIPTION:https://calendify.com/session/Ejw4YJdeOQ1
DTSTAMP:20260423T175903Z
CREATED:20210112T232157Z
LAST-MODIFIED:20210208T224804Z
END:VEVENT
END:VCALENDAR