BEGIN:VCALENDAR
VERSION:2.0
PRODID:calendify.com
BEGIN:VEVENT
UID:calendify-session-Ejw4YJjmOQ1
DTSTART:20210206T151500Z
SEQUENCE:0
TRANSP:OPAQUE
DTEND:20210206T154000Z
URL:https://calendify.com/session/Ejw4YJjmOQ1
LOCATION:D.rtc
SUMMARY:Light RTPENGINE PROXY (LREPROXY) FOR KAMAILIO
CLASS:PUBLIC
DESCRIPTION:https://calendify.com/session/Ejw4YJjmOQ1
DTSTAMP:20260419T195225Z
CREATED:20210201T190823Z
LAST-MODIFIED:20210208T224803Z
END:VEVENT
END:VCALENDAR