BEGIN:VCALENDAR
VERSION:2.0
PRODID:calendify.com
BEGIN:VEVENT
UID:calendify-session-Ejw4YJqWOQ1
DTSTART:20210206T152000Z
SEQUENCE:0
TRANSP:OPAQUE
DTEND:20210206T155500Z
URL:https://calendify.com/session/Ejw4YJqWOQ1
LOCATION:D.testing
SUMMARY:Daily Deploys with 6500+ Automated Tests powered by Open Source
CLASS:PUBLIC
DESCRIPTION:https://calendify.com/session/Ejw4YJqWOQ1
DTSTAMP:20260419T225346Z
CREATED:20210111T170319Z
LAST-MODIFIED:20210208T224803Z
END:VEVENT
END:VCALENDAR