BEGIN:VCALENDAR
VERSION:2.0
PRODID:calendify.com
BEGIN:VEVENT
UID:calendify-session-Ejw4YJxEOQ1
DTSTART:20210206T152000Z
SEQUENCE:0
TRANSP:OPAQUE
DTEND:20210206T154000Z
URL:https://calendify.com/session/Ejw4YJxEOQ1
LOCATION:L.lightningtalks
SUMMARY:Virgo: A Versatile Spectrometer for Radio Astronomy
CLASS:PUBLIC
DESCRIPTION:https://calendify.com/session/Ejw4YJxEOQ1
DTSTAMP:20260424T041638Z
CREATED:20210113T115145Z
LAST-MODIFIED:20210208T224802Z
END:VEVENT
END:VCALENDAR