BEGIN:VCALENDAR
VERSION:2.0
PRODID:calendify.com
BEGIN:VEVENT
UID:calendify-session-Ejw4YKGrMQ1
DTSTART:20200201T100000Z
SEQUENCE:0
TRANSP:OPAQUE
DTEND:20200201T105000Z
URL:https://calendify.com/session/Ejw4YKGrMQ1
LOCATION:UA2.220 (Guillissen)
SUMMARY:DEBATE: Should FOSS licenses be enforced at all?
CLASS:PUBLIC
DESCRIPTION:https://calendify.com/session/Ejw4YKGrMQ1
DTSTAMP:20260420T215900Z
CREATED:20200513T234730Z
LAST-MODIFIED:20210426T093308Z
END:VEVENT
END:VCALENDAR