BEGIN:VCALENDAR
VERSION:2.0
PRODID:calendify.com
BEGIN:VEVENT
UID:calendify-session-Ejw4YKLaMQ1
DTSTART:20180512T223000Z
SEQUENCE:0
TRANSP:OPAQUE
DTEND:20180512T233000Z
URL:https://calendify.com/session/Ejw4YKLaMQ1
LOCATION:Lounge
SUMMARY:Tschunkelmusik
CLASS:PUBLIC
DESCRIPTION:https://calendify.com/session/Ejw4YKLaMQ1
DTSTAMP:20260422T015452Z
CREATED:20200513T011828Z
LAST-MODIFIED:20200513T011828Z
END:VEVENT
END:VCALENDAR