BEGIN:VCALENDAR
VERSION:2.0
PRODID:calendify.com
BEGIN:VEVENT
UID:calendify-session-Ejw4YKjrMQ1
DTSTART:20200201T102000Z
SEQUENCE:0
TRANSP:OPAQUE
DTEND:20200201T105500Z
URL:https://calendify.com/session/Ejw4YKjrMQ1
LOCATION:K.4.601
SUMMARY:AMENDMENT The Confidential Consortium Framework
CLASS:PUBLIC
DESCRIPTION:https://calendify.com/session/Ejw4YKjrMQ1
DTSTAMP:20260421T050900Z
CREATED:20200513T234730Z
LAST-MODIFIED:20210426T093308Z
END:VEVENT
END:VCALENDAR