BEGIN:VCALENDAR
VERSION:2.0
PRODID:calendify.com
BEGIN:VEVENT
UID:calendify-session-Ejw4YKxjMQ1
DTSTART:20180511T123000Z
SEQUENCE:0
TRANSP:OPAQUE
DTEND:20180511T130000Z
URL:https://calendify.com/session/Ejw4YKxjMQ1
LOCATION:HfG_Studio
SUMMARY:Using and creating console oriented services (such as wttr.in\, che
 at.sh\, rate.sx\, etc)
CLASS:PUBLIC
DESCRIPTION:https://calendify.com/session/Ejw4YKxjMQ1
DTSTAMP:20260419T124742Z
CREATED:20200513T011827Z
LAST-MODIFIED:20200513T011827Z
END:VEVENT
END:VCALENDAR