BEGIN:VCALENDAR
VERSION:2.0
PRODID:calendify.com
BEGIN:VEVENT
UID:calendify-session-Ejw4YKz1MQ1
DTSTART:20200202T093000Z
SEQUENCE:0
TRANSP:OPAQUE
DTEND:20200202T095000Z
URL:https://calendify.com/session/Ejw4YKz1MQ1
LOCATION:UD2.218A
SUMMARY:Sphactor: actor model concurrency for creatives
CLASS:PUBLIC
DESCRIPTION:https://calendify.com/session/Ejw4YKz1MQ1
DTSTAMP:20260424T030136Z
CREATED:20200513T234735Z
LAST-MODIFIED:20210426T093311Z
END:VEVENT
END:VCALENDAR