BEGIN:VCALENDAR
VERSION:2.0
PRODID:calendify.com
BEGIN:VEVENT
UID:calendify-session-Ejw4YVJxOQ1
DTSTART:20221229T120000Z
SEQUENCE:0
TRANSP:OPAQUE
DTEND:20221229T130000Z
URL:https://calendify.com/session/Ejw4YVJxOQ1
LOCATION:xrelog22 - Stream
SUMMARY:Overte: World hopping
CLASS:PUBLIC
DESCRIPTION:https://calendify.com/session/Ejw4YVJxOQ1
DTSTAMP:20260423T231636Z
CREATED:20221218T163048Z
LAST-MODIFIED:20221230T225007Z
END:VEVENT
END:VCALENDAR