BEGIN:VCALENDAR
VERSION:2.0
PRODID:calendify.com
BEGIN:VEVENT
UID:calendify-session-Ejw4YWK8MQ1
DTSTART:20210312T170000Z
SEQUENCE:0
TRANSP:OPAQUE
DTEND:20210312T180000Z
URL:https://calendify.com/session/Ejw4YWK8MQ1
LOCATION:Zoom Room 3A
SUMMARY:Transforming academic peer review through mentorship: what we learn
 ed from Open Reviewers and ideas on where to take it next
CLASS:PUBLIC
DESCRIPTION:https://calendify.com/session/Ejw4YWK8MQ1
DTSTAMP:20260420T174237Z
CREATED:20210426T094928Z
LAST-MODIFIED:20210426T094928Z
END:VEVENT
END:VCALENDAR