BEGIN:VCALENDAR
VERSION:2.0
PRODID:calendify.com
BEGIN:VEVENT
UID:calendify-session-Ejw4YWPEMQ1
DTSTART:20210308T181500Z
SEQUENCE:0
TRANSP:OPAQUE
DTEND:20210308T191500Z
URL:https://calendify.com/session/Ejw4YWPEMQ1
LOCATION:Zoom Room 4B
SUMMARY:Online resistance against gender-based violence in Mexico
CLASS:PUBLIC
DESCRIPTION:https://calendify.com/session/Ejw4YWPEMQ1
DTSTAMP:20260420T191025Z
CREATED:20210426T094926Z
LAST-MODIFIED:20210426T094926Z
END:VEVENT
END:VCALENDAR