BEGIN:VCALENDAR
VERSION:2.0
PRODID:calendify.com
BEGIN:VEVENT
UID:calendify-session-Ejw4YWV1MQ1
DTSTART:20210317T213000Z
SEQUENCE:0
TRANSP:OPAQUE
DTEND:20210317T223000Z
URL:https://calendify.com/session/Ejw4YWV1MQ1
LOCATION:Broadcast Talks
SUMMARY:Responding to Coded Bias: Black Women Interrogating AI
CLASS:PUBLIC
DESCRIPTION:https://calendify.com/session/Ejw4YWV1MQ1
DTSTAMP:20260420T130041Z
CREATED:20210426T094929Z
LAST-MODIFIED:20210426T094929Z
END:VEVENT
END:VCALENDAR