BEGIN:VCALENDAR
VERSION:2.0
PRODID:calendify.com
BEGIN:VEVENT
UID:calendify-session-Ejw4YWY1MQ1
DTSTART:20220205T124000Z
SEQUENCE:0
TRANSP:OPAQUE
DTEND:20220205T132000Z
URL:https://calendify.com/session/Ejw4YWY1MQ1
LOCATION:D.nim
SUMMARY:LibVF.IO: vGPU & SR-IOV on Consumer GPUs using Nim
CLASS:PUBLIC
DESCRIPTION:https://calendify.com/session/Ejw4YWY1MQ1
DTSTAMP:20260420T082159Z
CREATED:20220120T214603Z
LAST-MODIFIED:20220206T225003Z
END:VEVENT
END:VCALENDAR