BEGIN:VCALENDAR
VERSION:2.0
PRODID:calendify.com
BEGIN:VEVENT
UID:calendify-session-Ejw4YWm7MQ1
DTSTART:20210310T133000Z
SEQUENCE:0
TRANSP:OPAQUE
DTEND:20210310T143000Z
URL:https://calendify.com/session/Ejw4YWm7MQ1
LOCATION:Spatial Chat / Social 1
SUMMARY:Facilitator Coaching Office Hours
CLASS:PUBLIC
DESCRIPTION:https://calendify.com/session/Ejw4YWm7MQ1
DTSTAMP:20260420T173729Z
CREATED:20210426T094927Z
LAST-MODIFIED:20210426T094927Z
END:VEVENT
END:VCALENDAR