BEGIN:VCALENDAR
VERSION:2.0
PRODID:calendify.com
BEGIN:VEVENT
UID:calendify-session-Ejw4YZ27OQ1
DTSTART:20220610T091500Z
SEQUENCE:0
TRANSP:OPAQUE
DTEND:20220610T094500Z
URL:https://calendify.com/session/Ejw4YZ27OQ1
LOCATION:Stage 2
SUMMARY:Zukunftsmacher*innen für die digitale Gesellschaft: Innovationskul
 tur und Kundenzentrierung in Unternehmen mit Grundversorgungsauftrag
CLASS:PUBLIC
DESCRIPTION:https://calendify.com/session/Ejw4YZ27OQ1
DTSTAMP:20260423T135704Z
CREATED:20220526T162949Z
LAST-MODIFIED:20220613T235205Z
END:VEVENT
END:VCALENDAR