BEGIN:VCALENDAR
VERSION:2.0
PRODID:calendify.com
BEGIN:VEVENT
UID:calendify-session-Ejw4YZ9mOQ1
DTSTART:20151228T130000Z
SEQUENCE:0
TRANSP:OPAQUE
DTEND:20151228T140000Z
URL:https://calendify.com/session/Ejw4YZ9mOQ1
LOCATION:Hall 2
SUMMARY:Jugend hackt 2015
CLASS:PUBLIC
DESCRIPTION:https://calendify.com/session/Ejw4YZ9mOQ1
DTSTAMP:20260423T211250Z
CREATED:20220415T142917Z
LAST-MODIFIED:20220415T142917Z
END:VEVENT
END:VCALENDAR