BEGIN:VCALENDAR
VERSION:2.0
PRODID:calendify.com
BEGIN:VEVENT
UID:calendify-session-Ejw4YZexOQ1
DTSTART:20220206T100000Z
SEQUENCE:0
TRANSP:OPAQUE
DTEND:20220206T102500Z
URL:https://calendify.com/session/Ejw4YZexOQ1
LOCATION:D.mysql
SUMMARY:ProxySQL Cluster: challenges and solutions to synchronizeconfigurat
 ionacross multiple decentralized cluster nodes
CLASS:PUBLIC
DESCRIPTION:https://calendify.com/session/Ejw4YZexOQ1
DTSTAMP:20260422T142335Z
CREATED:20220120T214608Z
LAST-MODIFIED:20220206T225004Z
END:VEVENT
END:VCALENDAR