BEGIN:VCALENDAR
VERSION:2.0
PRODID:calendify.com
BEGIN:VEVENT
UID:calendify-session-Ejw4YZjrOQ1
DTSTART:20220608T104500Z
SEQUENCE:0
TRANSP:OPAQUE
DTEND:20220608T111500Z
URL:https://calendify.com/session/Ejw4YZjrOQ1
LOCATION:Stage 1
SUMMARY:#MeToo Recherchen: Juliane Löffler berichtet
CLASS:PUBLIC
DESCRIPTION:https://calendify.com/session/Ejw4YZjrOQ1
DTSTAMP:20260423T111013Z
CREATED:20220526T162947Z
LAST-MODIFIED:20220613T235204Z
END:VEVENT
END:VCALENDAR