BEGIN:VCALENDAR
VERSION:2.0
PRODID:calendify.com
BEGIN:VEVENT
UID:calendify-session-Ejw4YZq8OQ1
DTSTART:20161229T173000Z
SEQUENCE:0
TRANSP:OPAQUE
DTEND:20161229T183000Z
URL:https://calendify.com/session/Ejw4YZq8OQ1
LOCATION:Saal 2
SUMMARY:An Elevator to the Moon (and back)
CLASS:PUBLIC
DESCRIPTION:https://calendify.com/session/Ejw4YZq8OQ1
DTSTAMP:20260423T152134Z
CREATED:20220415T135303Z
LAST-MODIFIED:20220415T135303Z
END:VEVENT
END:VCALENDAR