BEGIN:VCALENDAR
VERSION:2.0
PRODID:calendify.com
BEGIN:VEVENT
UID:calendify-session-Ejw4YZrEOQ1
DTSTART:20220611T160000Z
SEQUENCE:0
TRANSP:OPAQUE
DTEND:20220611T165000Z
URL:https://calendify.com/session/Ejw4YZrEOQ1
LOCATION:.txt Stage
SUMMARY:Menschenverachtende Satire
CLASS:PUBLIC
DESCRIPTION:https://calendify.com/session/Ejw4YZrEOQ1
DTSTAMP:20260420T083541Z
CREATED:20220526T162948Z
LAST-MODIFIED:20220613T235204Z
END:VEVENT
END:VCALENDAR