BEGIN:VCALENDAR
VERSION:2.0
PRODID:calendify.com
BEGIN:VEVENT
UID:calendify-session-Ejw4YZyrOQ1
DTSTART:20220206T165500Z
SEQUENCE:0
TRANSP:OPAQUE
DTEND:20220206T170000Z
URL:https://calendify.com/session/Ejw4YZyrOQ1
LOCATION:D.ada
SUMMARY:Closing of the Ada DevRoom
CLASS:PUBLIC
DESCRIPTION:https://calendify.com/session/Ejw4YZyrOQ1
DTSTAMP:20260420T082158Z
CREATED:20220131T120102Z
LAST-MODIFIED:20220206T225003Z
END:VEVENT
END:VCALENDAR